BEGIN:VCALENDAR
VERSION:2.0
PRODID:-//Musavire Oy - ECPv6.15.20//NONSGML v1.0//EN
CALSCALE:GREGORIAN
METHOD:PUBLISH
X-ORIGINAL-URL:https://musavire.fi
X-WR-CALDESC:Tapahtumat Musavire Oy
REFRESH-INTERVAL;VALUE=DURATION:PT1H
X-Robots-Tag:noindex
X-PUBLISHED-TTL:PT1H
BEGIN:VTIMEZONE
TZID:Europe/Helsinki
BEGIN:DAYLIGHT
TZOFFSETFROM:+0200
TZOFFSETTO:+0300
TZNAME:EEST
DTSTART:20250330T010000
END:DAYLIGHT
BEGIN:STANDARD
TZOFFSETFROM:+0300
TZOFFSETTO:+0200
TZNAME:EET
DTSTART:20251026T010000
END:STANDARD
BEGIN:DAYLIGHT
TZOFFSETFROM:+0200
TZOFFSETTO:+0300
TZNAME:EEST
DTSTART:20260329T010000
END:DAYLIGHT
BEGIN:STANDARD
TZOFFSETFROM:+0300
TZOFFSETTO:+0200
TZNAME:EET
DTSTART:20261025T010000
END:STANDARD
BEGIN:DAYLIGHT
TZOFFSETFROM:+0200
TZOFFSETTO:+0300
TZNAME:EEST
DTSTART:20270328T010000
END:DAYLIGHT
BEGIN:STANDARD
TZOFFSETFROM:+0300
TZOFFSETTO:+0200
TZNAME:EET
DTSTART:20271031T010000
END:STANDARD
END:VTIMEZONE
BEGIN:VEVENT
DTSTART;TZID=Europe/Helsinki:20260425T200000
DTEND;TZID=Europe/Helsinki:20260426T010000
DTSTAMP:20260423T125654
CREATED:20251009T191813Z
LAST-MODIFIED:20260128T203402Z
UID:1801-1777147200-1777165200@musavire.fi
SUMMARY:Karaoketanssit Naaman kylätalolla
DESCRIPTION:Juontaa Jari
URL:https://musavire.fi/tapahtumakalenteri/karaoketanssit-naaman-kylatalolla-3/
LOCATION:Naaman kylätalo\, Naamantie 122\, Utajärvi\, 91600\, Finland
END:VEVENT
BEGIN:VEVENT
DTSTART;TZID=Europe/Helsinki:20260515T210000
DTEND;TZID=Europe/Helsinki:20260516T013000
DTSTAMP:20260423T125654
CREATED:20250322T184403Z
LAST-MODIFIED:20260421T193230Z
UID:1598-1778878800-1778895000@musavire.fi
SUMMARY:Rotuaarikaraoke 2026 alkukarsinta
DESCRIPTION:Ilmoittautuminen alkaa klo 21
URL:https://musavire.fi/tapahtumakalenteri/rotuaarikaraoke-2026-alkukarsinta/
LOCATION:Pub Karhunpesä\, Kauppatie 6\, Kempele\, 90440\, Finland
END:VEVENT
BEGIN:VEVENT
DTSTART;TZID=Europe/Helsinki:20260523T200000
DTEND;TZID=Europe/Helsinki:20260524T010000
DTSTAMP:20260423T125654
CREATED:20240703T190321Z
LAST-MODIFIED:20260316T212924Z
UID:1124-1779566400-1779584400@musavire.fi
SUMMARY:Karaoketanssit Naaman kylätalolla
DESCRIPTION:Juontaa Jari \n \n  \n 
URL:https://musavire.fi/tapahtumakalenteri/karaoketanssit-naaman-kylatalolla/
LOCATION:Naaman kylätalo\, Naamantie 122\, Utajärvi\, 91600\, Finland
END:VEVENT
END:VCALENDAR